BEGIN:VCALENDAR
VERSION:2.0
PRODID:-//EATEL
CALSCALE:GREGORIAN
METHOD:PUBLISH
X-WR-CALNAME:EATEL
X-ORIGINAL-URL:https://ea-tel.eu/events/entrepreneurship-opportunities-for-learning-technologists
X-WR-CALDESC:Entrepreneurship opportunities for learning technologists
BEGIN:VEVENT
DTSTART:20200527T100000
DTEND:20200527T120000
SUMMARY:Entrepreneurship opportunities for learning technologists
DESCRIPTION:
LOCATION:
END:VEVENT
END:VCALENDAR
