BEGIN:VCALENDAR
VERSION:2.0
PRODID:-//EATEL
CALSCALE:GREGORIAN
METHOD:PUBLISH
X-WR-CALNAME:EATEL
X-ORIGINAL-URL:https://ea-tel.eu/events/thematic_challenging-the-tel-research-and-development-imagining-and-designing-educational-innovation
X-WR-CALDESC:Challenging the TEL research and development: imagining and designing educational innovation
BEGIN:VEVENT
DTSTART:20250516T090000
DTEND:20250516T103000
SUMMARY:Challenging the TEL research and development: imagining and designing educational innovation
DESCRIPTION:
LOCATION:
END:VEVENT
END:VCALENDAR
