BEGIN:VCALENDAR
VERSION:2.0
PRODID:-//EATEL
CALSCALE:GREGORIAN
METHOD:PUBLISH
X-WR-CALNAME:EATEL
X-ORIGINAL-URL:https://ea-tel.eu/events/session-9-adaptive-learning-environments
X-WR-CALDESC:Session 9: Adaptive Learning Environments
BEGIN:VEVENT
DTSTART:20240919T160000
DTEND:20240919T173000
SUMMARY:Session 9: Adaptive Learning Environments
DESCRIPTION:
LOCATION:M.3.23
END:VEVENT
END:VCALENDAR
