BEGIN:VCALENDAR
VERSION:2.0
PRODID:-//EATEL
CALSCALE:GREGORIAN
METHOD:PUBLISH
X-WR-CALNAME:EATEL
X-ORIGINAL-URL:https://ea-tel.eu/events/thematic_from-learner-behavior-to-big-data
X-WR-CALDESC:From learner behavior to big data: How to implement and scale Learning Analytics infrastructures in the cloud
BEGIN:VEVENT
DTSTART:20240518T090000
DTEND:20240518T103000
SUMMARY:From learner behavior to big data: How to implement and scale Learning Analytics infrastructures in the cloud
DESCRIPTION:
LOCATION:
END:VEVENT
END:VCALENDAR
