BEGIN:VCALENDAR
VERSION:2.0
PRODID:-//EATEL
CALSCALE:GREGORIAN
METHOD:PUBLISH
X-WR-CALNAME:EATEL
X-ORIGINAL-URL:https://ea-tel.eu/events/thematic_branching-out-skill-trees-for-education-and-self-improvement
X-WR-CALDESC:Branching Out: Skill Trees for Education and Self-Improvement
BEGIN:VEVENT
DTSTART:20240514T173000
DTEND:20240514T190000
SUMMARY:Branching Out: Skill Trees for Education and Self-Improvement
DESCRIPTION:
LOCATION:
END:VEVENT
END:VCALENDAR
