BEGIN:VCALENDAR
VERSION:2.0
PRODID:-//EATEL
CALSCALE:GREGORIAN
METHOD:PUBLISH
X-WR-CALNAME:EATEL
X-ORIGINAL-URL:https://ea-tel.eu/events/methodology_systematic-approaches-to-literature-review
X-WR-CALDESC:Systematic Approaches to Literature Review
BEGIN:VEVENT
DTSTART:20240514T160000
DTEND:20240516T173000
SUMMARY:Systematic Approaches to Literature Review
DESCRIPTION:
LOCATION:
END:VEVENT
END:VCALENDAR
