BEGIN:VCALENDAR
VERSION:2.0
PRODID:-//EATEL
CALSCALE:GREGORIAN
METHOD:PUBLISH
X-WR-CALNAME:EATEL
X-ORIGINAL-URL:https://ea-tel.eu/events/session-5-computer-supported-collaborative-learning
X-WR-CALDESC:Session 5: Computer-Supported Collaborative Learning
BEGIN:VEVENT
DTSTART:20230907T110000
DTEND:20230907T130000
SUMMARY:Session 5: Computer-Supported Collaborative Learning
DESCRIPTION:
LOCATION:Room 40.1.8
END:VEVENT
END:VCALENDAR
