BEGIN:VCALENDAR
VERSION:2.0
PRODID:-//EATEL
CALSCALE:GREGORIAN
METHOD:PUBLISH
X-WR-CALNAME:EATEL
X-ORIGINAL-URL:https://ea-tel.eu/events/design-and-evaluation-of-personalized-and-adaptive-learning
X-WR-CALDESC:Design and Evaluation of Personalized and Adaptive Learning
BEGIN:VEVENT
DTSTART:20230605T103000
DTEND:20230605T120000
SUMMARY:Design and Evaluation of Personalized and Adaptive Learning
DESCRIPTION:
LOCATION:
END:VEVENT
END:VCALENDAR
