BEGIN:VCALENDAR
VERSION:2.0
PRODID:-//EATEL
CALSCALE:GREGORIAN
METHOD:PUBLISH
X-WR-CALNAME:EATEL
X-ORIGINAL-URL:https://ea-tel.eu/events/a-stronger-tel-phd-getting-ready-for-the-doctoral-consortium
X-WR-CALDESC:A Stronger TEL PhD: Getting Ready for the Doctoral Consortium
BEGIN:VEVENT
DTSTART:20230607T140000
DTEND:20230607T153000
SUMMARY:A Stronger TEL PhD: Getting Ready for the Doctoral Consortium
DESCRIPTION:
LOCATION:
END:VEVENT
END:VCALENDAR
