BEGIN:VCALENDAR
VERSION:2.0
PRODID:-//EATEL
CALSCALE:GREGORIAN
METHOD:PUBLISH
X-WR-CALNAME:EATEL
X-ORIGINAL-URL:https://ea-tel.eu/events/get-to-know-jtelss-games
X-WR-CALDESC:Get-to-know JTELSS Games
BEGIN:VEVENT
DTSTART:20220521T210000
DTEND:20220521T223000
SUMMARY:Get-to-know JTELSS Games
DESCRIPTION:
LOCATION:
END:VEVENT
END:VCALENDAR
