BEGIN:VCALENDAR
VERSION:2.0
PRODID:-//EATEL
CALSCALE:GREGORIAN
METHOD:PUBLISH
X-WR-CALNAME:EATEL
X-ORIGINAL-URL:https://ea-tel.eu/events/learning-psychomotor-skills-with-ai-ar-vr-considering-technical-and-mental-aspects
X-WR-CALDESC:Learning Psychomotor Skills with AI &#038; AR/VR considering Technical and Mental Aspects
BEGIN:VEVENT
DTSTART:20220527T103000
DTEND:20220527T120000
SUMMARY:Learning Psychomotor Skills with AI &#038; AR/VR considering Technical and Mental Aspects
DESCRIPTION:
LOCATION:
END:VEVENT
END:VCALENDAR
